BEGIN:VCALENDAR
VERSION:2.0
PRODID:-//eventon.com NONSGML v1.0//EN
CALSCALE:GREGORIAN
METHOD:PUBLISH
BEGIN:VEVENT
UID:69e5fb337c0cf
DTSTAMP:20260420T100851Z
DTSTART:20260404
DTEND:20260405
LOCATION:
SUMMARY:Frühlingsferien
DESCRIPTION:2 Wochen\nhttps://prim-taeuffelen.ch/events/fruehlingsferien-6/
URL:https://prim-taeuffelen.ch/events/fruehlingsferien-6/
END:VEVENT
END:VCALENDAR