BEGIN:VCALENDAR
VERSION:2.0
PRODID:-//eventon.com NONSGML v1.0//EN
CALSCALE:GREGORIAN
METHOD:PUBLISH
BEGIN:VEVENT
UID:69e5f9c20edbe
DTSTAMP:20260420T100242Z
DTSTART:20260420
DTEND:20260421
LOCATION:
SUMMARY:SchiLF - schulfrei
DESCRIPTION:SchiLF - schulfrei\nhttps://prim-taeuffelen.ch/events/schilf-sc
 hulfrei-14/
URL:https://prim-taeuffelen.ch/events/schilf-schulfrei-14/
END:VEVENT
END:VCALENDAR