BEGIN:VCALENDAR
VERSION:2.0
PRODID:-//eventon.com NONSGML v1.0//EN
CALSCALE:GREGORIAN
METHOD:PUBLISH
BEGIN:VEVENT
UID:69e88974a24aa
DTSTAMP:20260422T084020Z
DTSTART:20260514
DTEND:20260515
LOCATION:
SUMMARY:Auffahrtsbrücke - schulfrei
DESCRIPTION:Auffahrtsbrücke - schulfrei\nhttps://prim-taeuffelen.ch/events
 /auffahrtsbruecke-schulfrei-4/
URL:https://prim-taeuffelen.ch/events/auffahrtsbruecke-schulfrei-4/
END:VEVENT
END:VCALENDAR