BEGIN:VCALENDAR
VERSION:2.0
PRODID:-//eventon.com NONSGML v1.0//EN
CALSCALE:GREGORIAN
METHOD:PUBLISH
BEGIN:VEVENT
UID:69e5fa1c2312f
DTSTAMP:20260420T100412Z
DTSTART:20260525
DTEND:20260526
LOCATION:
SUMMARY:Pfingstmontag - schulfrei
DESCRIPTION:schulfrei\nhttps://prim-taeuffelen.ch/events/pfingstmontag-schu
 lfrei-3/
URL:https://prim-taeuffelen.ch/events/pfingstmontag-schulfrei-3/
END:VEVENT
END:VCALENDAR