BEGIN:VCALENDAR
VERSION:2.0
PRODID:-//eventon.com NONSGML v1.0//EN
CALSCALE:GREGORIAN
METHOD:PUBLISH
BEGIN:VEVENT
UID:69e88b86355f6
DTSTAMP:20260422T084910Z
DTSTART:20260526T190000Z
DTEND:20260530T070000Z
LOCATION:
SUMMARY:Landschulwoche - 3./4. Klassen A\,  B & C
DESCRIPTION:Landschulwoche - 3./4. Klassen A\,  B & C\nhttps://prim-taeuffe
 len.ch/events/landschulwoche-3-4-klassen-a-b-c/
URL:https://prim-taeuffelen.ch/events/landschulwoche-3-4-klassen-a-b-c/
END:VEVENT
END:VCALENDAR