BEGIN:VCALENDAR
VERSION:2.0
PRODID:-//eventon.com NONSGML v1.0//EN
CALSCALE:GREGORIAN
METHOD:PUBLISH
BEGIN:VEVENT
UID:69e5f9c1a809e
DTSTAMP:20260420T100241Z
DTSTART:20260617
DTEND:20260618
LOCATION:
SUMMARY:SchiLF - schulfrei
DESCRIPTION:SchiLF - schulfrei\nhttps://prim-taeuffelen.ch/events/schilf-sc
 hulfrei-15/
URL:https://prim-taeuffelen.ch/events/schilf-schulfrei-15/
END:VEVENT
END:VCALENDAR