BEGIN:VCALENDAR
VERSION:2.0
PRODID:-//eventon.com NONSGML v1.0//EN
CALSCALE:GREGORIAN
METHOD:PUBLISH
BEGIN:VEVENT
UID:69e5fb3440b2d
DTSTAMP:20260420T100852Z
DTSTART:20260617T003000Z
DTEND:20260617T030500Z
LOCATION:
SUMMARY:Schnuppernachmittag
DESCRIPTION:Alle Kinder besuchen ihre neue Lehrperson und die neue Klasse. 
 Kindergarten: 13.45-15.15 1. &#8211; 2. Klasse: 13.30-15:00\,  danach Unter
 richt nach Stundenplan 3. &#8211; 6. Klasse: 13.30-15.00\,  danach Unterric
 ht nach Stundenplan\nhttps://prim-taeuffelen.ch/events/schnuppernachmittag-
 3/
URL:https://prim-taeuffelen.ch/events/schnuppernachmittag-3/
END:VEVENT
END:VCALENDAR