BEGIN:VCALENDAR
VERSION:2.0
PRODID:-//eventon.com NONSGML v1.0//EN
CALSCALE:GREGORIAN
METHOD:PUBLISH
BEGIN:VEVENT
UID:69e8a6805b78e
DTSTAMP:20260422T104416Z
DTSTART:20260624T215500Z
DTEND:20260624T224000Z
LOCATION:
SUMMARY:Besuch im OSZT - 6. Klassen
DESCRIPTION:Besuch im OSZT - 6. Klassen\nhttps://prim-taeuffelen.ch/events/
 besuch-im-oszt-6-klassen-2/
URL:https://prim-taeuffelen.ch/events/besuch-im-oszt-6-klassen-2/
END:VEVENT
END:VCALENDAR