BEGIN:VCALENDAR
VERSION:2.0
PRODID:-//eventon.com NONSGML v1.0//EN
CALSCALE:GREGORIAN
METHOD:PUBLISH
BEGIN:VEVENT
UID:69e5f89b79fa4
DTSTAMP:20260420T095747Z
DTSTART:20260704
DTEND:20260705
LOCATION:
SUMMARY:Sommerferien
DESCRIPTION:5 Wochen\nhttps://prim-taeuffelen.ch/events/sommerferien-6/
URL:https://prim-taeuffelen.ch/events/sommerferien-6/
END:VEVENT
END:VCALENDAR