BEGIN:VCALENDAR
VERSION:2.0
PRODID:-//eventon.com NONSGML v1.0//EN
CALSCALE:GREGORIAN
METHOD:PUBLISH
BEGIN:VEVENT
UID:69e5f910f1b06
DTSTAMP:20260420T095944Z
DTSTART:20260428T000000Z
DTEND:20260428T000000Z
LOCATION:
SUMMARY:Sporttag Kindergärten
DESCRIPTION:Sporttag Kindergärten\nhttps://prim-taeuffelen.ch/events/sport
 tag-kindergaerten/
URL:https://prim-taeuffelen.ch/events/sporttag-kindergaerten/
END:VEVENT
END:VCALENDAR