BEGIN:VCALENDAR
VERSION:2.0
PRODID:-//eventon.com NONSGML v1.0//EN
CALSCALE:GREGORIAN
METHOD:PUBLISH
BEGIN:VEVENT
UID:69e5f96747bba
DTSTAMP:20260420T100111Z
DTSTART:20260526T000000Z
DTEND:20260529T000000Z
LOCATION:
SUMMARY:Landschulwoche alle 3./4. Klassen
DESCRIPTION:Landschulwoche alle 3./4. Klassen\nhttps://prim-taeuffelen.ch/e
 vents/landschulwoche-alle-3-4-klassen/
URL:https://prim-taeuffelen.ch/events/landschulwoche-alle-3-4-klassen/
END:VEVENT
END:VCALENDAR